BEGIN:VCALENDAR
VERSION:2.0
PRODID:-//WID Stiftung - ECPv6.15.20//NONSGML v1.0//EN
CALSCALE:GREGORIAN
METHOD:PUBLISH
X-WR-CALNAME:WID Stiftung
X-ORIGINAL-URL:https://www.wid-stiftung.de
X-WR-CALDESC:Veranstaltungen für WID Stiftung
REFRESH-INTERVAL;VALUE=DURATION:PT1H
X-Robots-Tag:noindex
X-PUBLISHED-TTL:PT1H
BEGIN:VTIMEZONE
TZID:Europe/Berlin
BEGIN:DAYLIGHT
TZOFFSETFROM:+0100
TZOFFSETTO:+0200
TZNAME:CEST
DTSTART:20250330T010000
END:DAYLIGHT
BEGIN:STANDARD
TZOFFSETFROM:+0200
TZOFFSETTO:+0100
TZNAME:CET
DTSTART:20251026T010000
END:STANDARD
BEGIN:DAYLIGHT
TZOFFSETFROM:+0100
TZOFFSETTO:+0200
TZNAME:CEST
DTSTART:20260329T010000
END:DAYLIGHT
BEGIN:STANDARD
TZOFFSETFROM:+0200
TZOFFSETTO:+0100
TZNAME:CET
DTSTART:20261025T010000
END:STANDARD
BEGIN:DAYLIGHT
TZOFFSETFROM:+0100
TZOFFSETTO:+0200
TZNAME:CEST
DTSTART:20270328T010000
END:DAYLIGHT
BEGIN:STANDARD
TZOFFSETFROM:+0200
TZOFFSETTO:+0100
TZNAME:CET
DTSTART:20271031T010000
END:STANDARD
END:VTIMEZONE
BEGIN:VEVENT
DTSTART;TZID=Europe/Berlin:20260302T100000
DTEND;TZID=Europe/Berlin:20260302T140000
DTSTAMP:20260422T110206
CREATED:20231127T202114Z
LAST-MODIFIED:20231127T202114Z
UID:10001851-1772445600-1772460000@www.wid-stiftung.de
SUMMARY:LIGA
DESCRIPTION:Beratung von Asylbewerbern
URL:https://www.wid-stiftung.de/terminkalender/liga-5-2/2026-03-02/
LOCATION:VISàVIS\, Jakobstraße 50\, Grünstadt\, Rheinland-Pfalz\, 67269\, Deutschland
CATEGORIES:Beratung
ATTACH;FMTTYPE=image/jpeg:https://www.wid-stiftung.de/wp-content/uploads/2020/06/Beratung-Liga.jpg
ORGANIZER;CN="LIGA":MAILTO:LIGA@gmx-topmail.de
END:VEVENT
BEGIN:VEVENT
DTSTART;TZID=Europe/Berlin:20260302T170000
DTEND;TZID=Europe/Berlin:20260302T183000
DTSTAMP:20260422T110206
CREATED:20210829T155534Z
LAST-MODIFIED:20231127T203434Z
UID:10002210-1772470800-1772476200@www.wid-stiftung.de
SUMMARY:Literaturkreis
DESCRIPTION:Leitung: Waltraud Amberger
URL:https://www.wid-stiftung.de/terminkalender/literaturkreis-3-2-3/2026-03-02/
LOCATION:VISàVIS\, Jakobstraße 50\, Grünstadt\, Rheinland-Pfalz\, 67269\, Deutschland
CATEGORIES:Literaturkreis
END:VEVENT
BEGIN:VEVENT
DTSTART;TZID=Europe/Berlin:20260303T180000
DTEND;TZID=Europe/Berlin:20260303T200000
DTSTAMP:20260422T110206
CREATED:20250302T222522Z
LAST-MODIFIED:20250521T153158Z
UID:10002657-1772560800-1772568000@www.wid-stiftung.de
SUMMARY:LIGA - Beratung
DESCRIPTION:Ansprechpartner: Bernd Frietsch
URL:https://www.wid-stiftung.de/terminkalender/liga-18-12/2026-03-03/
LOCATION:VISàVIS\, Jakobstraße 50\, Grünstadt\, Rheinland-Pfalz\, 67269\, Deutschland
CATEGORIES:Beratung
ATTACH;FMTTYPE=image/png:https://www.wid-stiftung.de/wp-content/uploads/2020/06/Formular-ausfüllen.png
ORGANIZER;CN="LIGA":MAILTO:LIGA@gmx-topmail.de
END:VEVENT
BEGIN:VEVENT
DTSTART;TZID=Europe/Berlin:20260305T160000
DTEND;TZID=Europe/Berlin:20260305T181500
DTSTAMP:20260422T110206
CREATED:20210601T072007Z
LAST-MODIFIED:20250521T152329Z
UID:10002473-1772726400-1772734500@www.wid-stiftung.de
SUMMARY:Lerncafé
DESCRIPTION:Leitung: Harry Hellfors
URL:https://www.wid-stiftung.de/terminkalender/lerncafe-2-2-2-4-2/2026-03-05/
LOCATION:VISàVIS\, Jakobstraße 50\, Grünstadt\, Rheinland-Pfalz\, 67269\, Deutschland
CATEGORIES:Alphabetisierung,Sprachkurs,Treffen
ATTACH;FMTTYPE=image/png:https://www.wid-stiftung.de/wp-content/uploads/2020/11/Grubinetz.png
ORGANIZER;CN="GrubiNetz":MAILTO:jennifer.handzik@andereslernen.de
END:VEVENT
BEGIN:VEVENT
DTSTART;TZID=Europe/Berlin:20260309T100000
DTEND;TZID=Europe/Berlin:20260309T140000
DTSTAMP:20260422T110206
CREATED:20231127T202114Z
LAST-MODIFIED:20231127T202114Z
UID:10001852-1773050400-1773064800@www.wid-stiftung.de
SUMMARY:LIGA
DESCRIPTION:Beratung von Asylbewerbern
URL:https://www.wid-stiftung.de/terminkalender/liga-5-2/2026-03-09/
LOCATION:VISàVIS\, Jakobstraße 50\, Grünstadt\, Rheinland-Pfalz\, 67269\, Deutschland
CATEGORIES:Beratung
ATTACH;FMTTYPE=image/jpeg:https://www.wid-stiftung.de/wp-content/uploads/2020/06/Beratung-Liga.jpg
ORGANIZER;CN="LIGA":MAILTO:LIGA@gmx-topmail.de
END:VEVENT
BEGIN:VEVENT
DTSTART;TZID=Europe/Berlin:20260309T170000
DTEND;TZID=Europe/Berlin:20260309T183000
DTSTAMP:20260422T110206
CREATED:20210829T155534Z
LAST-MODIFIED:20231127T203434Z
UID:10002211-1773075600-1773081000@www.wid-stiftung.de
SUMMARY:Literaturkreis
DESCRIPTION:Leitung: Waltraud Amberger
URL:https://www.wid-stiftung.de/terminkalender/literaturkreis-3-2-3/2026-03-09/
LOCATION:VISàVIS\, Jakobstraße 50\, Grünstadt\, Rheinland-Pfalz\, 67269\, Deutschland
CATEGORIES:Literaturkreis
END:VEVENT
BEGIN:VEVENT
DTSTART;TZID=Europe/Berlin:20260310T180000
DTEND;TZID=Europe/Berlin:20260310T200000
DTSTAMP:20260422T110206
CREATED:20250302T222522Z
LAST-MODIFIED:20250521T153158Z
UID:10002658-1773165600-1773172800@www.wid-stiftung.de
SUMMARY:LIGA - Beratung
DESCRIPTION:Ansprechpartner: Bernd Frietsch
URL:https://www.wid-stiftung.de/terminkalender/liga-18-12/2026-03-10/
LOCATION:VISàVIS\, Jakobstraße 50\, Grünstadt\, Rheinland-Pfalz\, 67269\, Deutschland
CATEGORIES:Beratung
ATTACH;FMTTYPE=image/png:https://www.wid-stiftung.de/wp-content/uploads/2020/06/Formular-ausfüllen.png
ORGANIZER;CN="LIGA":MAILTO:LIGA@gmx-topmail.de
END:VEVENT
BEGIN:VEVENT
DTSTART;TZID=Europe/Berlin:20260312T160000
DTEND;TZID=Europe/Berlin:20260312T181500
DTSTAMP:20260422T110206
CREATED:20210601T072007Z
LAST-MODIFIED:20250521T152329Z
UID:10002474-1773331200-1773339300@www.wid-stiftung.de
SUMMARY:Lerncafé
DESCRIPTION:Leitung: Harry Hellfors
URL:https://www.wid-stiftung.de/terminkalender/lerncafe-2-2-2-4-2/2026-03-12/
LOCATION:VISàVIS\, Jakobstraße 50\, Grünstadt\, Rheinland-Pfalz\, 67269\, Deutschland
CATEGORIES:Alphabetisierung,Sprachkurs,Treffen
ATTACH;FMTTYPE=image/png:https://www.wid-stiftung.de/wp-content/uploads/2020/11/Grubinetz.png
ORGANIZER;CN="GrubiNetz":MAILTO:jennifer.handzik@andereslernen.de
END:VEVENT
BEGIN:VEVENT
DTSTART;TZID=Europe/Berlin:20260316T100000
DTEND;TZID=Europe/Berlin:20260316T140000
DTSTAMP:20260422T110206
CREATED:20231127T202114Z
LAST-MODIFIED:20231127T202114Z
UID:10001853-1773655200-1773669600@www.wid-stiftung.de
SUMMARY:LIGA
DESCRIPTION:Beratung von Asylbewerbern
URL:https://www.wid-stiftung.de/terminkalender/liga-5-2/2026-03-16/
LOCATION:VISàVIS\, Jakobstraße 50\, Grünstadt\, Rheinland-Pfalz\, 67269\, Deutschland
CATEGORIES:Beratung
ATTACH;FMTTYPE=image/jpeg:https://www.wid-stiftung.de/wp-content/uploads/2020/06/Beratung-Liga.jpg
ORGANIZER;CN="LIGA":MAILTO:LIGA@gmx-topmail.de
END:VEVENT
BEGIN:VEVENT
DTSTART;TZID=Europe/Berlin:20260316T170000
DTEND;TZID=Europe/Berlin:20260316T183000
DTSTAMP:20260422T110206
CREATED:20210829T155534Z
LAST-MODIFIED:20231127T203434Z
UID:10002212-1773680400-1773685800@www.wid-stiftung.de
SUMMARY:Literaturkreis
DESCRIPTION:Leitung: Waltraud Amberger
URL:https://www.wid-stiftung.de/terminkalender/literaturkreis-3-2-3/2026-03-16/
LOCATION:VISàVIS\, Jakobstraße 50\, Grünstadt\, Rheinland-Pfalz\, 67269\, Deutschland
CATEGORIES:Literaturkreis
END:VEVENT
BEGIN:VEVENT
DTSTART;TZID=Europe/Berlin:20260317T180000
DTEND;TZID=Europe/Berlin:20260317T200000
DTSTAMP:20260422T110206
CREATED:20250302T222522Z
LAST-MODIFIED:20250521T153158Z
UID:10002659-1773770400-1773777600@www.wid-stiftung.de
SUMMARY:LIGA - Beratung
DESCRIPTION:Ansprechpartner: Bernd Frietsch
URL:https://www.wid-stiftung.de/terminkalender/liga-18-12/2026-03-17/
LOCATION:VISàVIS\, Jakobstraße 50\, Grünstadt\, Rheinland-Pfalz\, 67269\, Deutschland
CATEGORIES:Beratung
ATTACH;FMTTYPE=image/png:https://www.wid-stiftung.de/wp-content/uploads/2020/06/Formular-ausfüllen.png
ORGANIZER;CN="LIGA":MAILTO:LIGA@gmx-topmail.de
END:VEVENT
BEGIN:VEVENT
DTSTART;TZID=Europe/Berlin:20260319T160000
DTEND;TZID=Europe/Berlin:20260319T181500
DTSTAMP:20260422T110206
CREATED:20210601T072007Z
LAST-MODIFIED:20250521T152329Z
UID:10002475-1773936000-1773944100@www.wid-stiftung.de
SUMMARY:Lerncafé
DESCRIPTION:Leitung: Harry Hellfors
URL:https://www.wid-stiftung.de/terminkalender/lerncafe-2-2-2-4-2/2026-03-19/
LOCATION:VISàVIS\, Jakobstraße 50\, Grünstadt\, Rheinland-Pfalz\, 67269\, Deutschland
CATEGORIES:Alphabetisierung,Sprachkurs,Treffen
ATTACH;FMTTYPE=image/png:https://www.wid-stiftung.de/wp-content/uploads/2020/11/Grubinetz.png
ORGANIZER;CN="GrubiNetz":MAILTO:jennifer.handzik@andereslernen.de
END:VEVENT
BEGIN:VEVENT
DTSTART;TZID=Europe/Berlin:20260323T100000
DTEND;TZID=Europe/Berlin:20260323T140000
DTSTAMP:20260422T110206
CREATED:20231127T202114Z
LAST-MODIFIED:20231127T202114Z
UID:10001854-1774260000-1774274400@www.wid-stiftung.de
SUMMARY:LIGA
DESCRIPTION:Beratung von Asylbewerbern
URL:https://www.wid-stiftung.de/terminkalender/liga-5-2/2026-03-23/
LOCATION:VISàVIS\, Jakobstraße 50\, Grünstadt\, Rheinland-Pfalz\, 67269\, Deutschland
CATEGORIES:Beratung
ATTACH;FMTTYPE=image/jpeg:https://www.wid-stiftung.de/wp-content/uploads/2020/06/Beratung-Liga.jpg
ORGANIZER;CN="LIGA":MAILTO:LIGA@gmx-topmail.de
END:VEVENT
BEGIN:VEVENT
DTSTART;TZID=Europe/Berlin:20260323T170000
DTEND;TZID=Europe/Berlin:20260323T183000
DTSTAMP:20260422T110206
CREATED:20210829T155534Z
LAST-MODIFIED:20231127T203434Z
UID:10002213-1774285200-1774290600@www.wid-stiftung.de
SUMMARY:Literaturkreis
DESCRIPTION:Leitung: Waltraud Amberger
URL:https://www.wid-stiftung.de/terminkalender/literaturkreis-3-2-3/2026-03-23/
LOCATION:VISàVIS\, Jakobstraße 50\, Grünstadt\, Rheinland-Pfalz\, 67269\, Deutschland
CATEGORIES:Literaturkreis
END:VEVENT
BEGIN:VEVENT
DTSTART;TZID=Europe/Berlin:20260324T180000
DTEND;TZID=Europe/Berlin:20260324T200000
DTSTAMP:20260422T110206
CREATED:20250302T222522Z
LAST-MODIFIED:20250521T153158Z
UID:10002660-1774375200-1774382400@www.wid-stiftung.de
SUMMARY:LIGA - Beratung
DESCRIPTION:Ansprechpartner: Bernd Frietsch
URL:https://www.wid-stiftung.de/terminkalender/liga-18-12/2026-03-24/
LOCATION:VISàVIS\, Jakobstraße 50\, Grünstadt\, Rheinland-Pfalz\, 67269\, Deutschland
CATEGORIES:Beratung
ATTACH;FMTTYPE=image/png:https://www.wid-stiftung.de/wp-content/uploads/2020/06/Formular-ausfüllen.png
ORGANIZER;CN="LIGA":MAILTO:LIGA@gmx-topmail.de
END:VEVENT
BEGIN:VEVENT
DTSTART;TZID=Europe/Berlin:20260326T160000
DTEND;TZID=Europe/Berlin:20260326T181500
DTSTAMP:20260422T110206
CREATED:20210601T072007Z
LAST-MODIFIED:20250521T152329Z
UID:10002476-1774540800-1774548900@www.wid-stiftung.de
SUMMARY:Lerncafé
DESCRIPTION:Leitung: Harry Hellfors
URL:https://www.wid-stiftung.de/terminkalender/lerncafe-2-2-2-4-2/2026-03-26/
LOCATION:VISàVIS\, Jakobstraße 50\, Grünstadt\, Rheinland-Pfalz\, 67269\, Deutschland
CATEGORIES:Alphabetisierung,Sprachkurs,Treffen
ATTACH;FMTTYPE=image/png:https://www.wid-stiftung.de/wp-content/uploads/2020/11/Grubinetz.png
ORGANIZER;CN="GrubiNetz":MAILTO:jennifer.handzik@andereslernen.de
END:VEVENT
BEGIN:VEVENT
DTSTART;TZID=Europe/Berlin:20260328T150000
DTEND;TZID=Europe/Berlin:20260328T170000
DTSTAMP:20260422T110206
CREATED:20251208T135245Z
LAST-MODIFIED:20251208T135245Z
UID:10002880-1774710000-1774717200@www.wid-stiftung.de
SUMMARY:Tanzen verbindet - im Kreis der Vielfalt
DESCRIPTION:Tanzen – Essen – Begegnen \nGemeinsam tanzen\nWir laden Sie herzlich ein\, mit uns einfache Tänze aus aller Welt zu tanzen.\nAlle können sofort mitmachen – Vorkenntnisse sind nicht nötig.\nHaben Sie selbst einen Tanz\, den Sie zeigen möchten?\nSehr gerne! Bringen Sie ihn mit und teilen Sie ihn mit allen. \nFür die Pause bringen Sie gerne mit:\neinen kleinen Imbiss aus Ihrer Kultur oder Küche\nGeschirr und Getränke sind vorhanden. \nSeien Sie dabei – wir freuen uns auf Sie! \nUte Kreidler\, Günay Türkoglu \n  \nweitere Termine: \n27. Juni 2026\, 15 – 17 Uhr\,  Klangraum 21 \, Ebertsheim\n4. Oktober 2026\,  11 – 13 Uhr\, während der Interkulturellen Woche 2026
URL:https://www.wid-stiftung.de/terminkalender/tanzen-verbindet-im-kreis-der-vielfalt/
LOCATION:VISàVIS\, Jakobstraße 50\, Grünstadt\, Rheinland-Pfalz\, 67269\, Deutschland
CATEGORIES:Tanzen,Treffen
ATTACH;FMTTYPE=image/jpeg:https://www.wid-stiftung.de/wp-content/uploads/2025/12/Tanzen-verbindet-im-Kreis-der-Vielfalt.jpg
ORGANIZER;CN="WID-Stiftung":MAILTO:info@wid-stiftung.de
END:VEVENT
BEGIN:VEVENT
DTSTART;TZID=Europe/Berlin:20260330T100000
DTEND;TZID=Europe/Berlin:20260330T140000
DTSTAMP:20260422T110206
CREATED:20231127T202114Z
LAST-MODIFIED:20231127T202114Z
UID:10001855-1774864800-1774879200@www.wid-stiftung.de
SUMMARY:LIGA
DESCRIPTION:Beratung von Asylbewerbern
URL:https://www.wid-stiftung.de/terminkalender/liga-5-2/2026-03-30/
LOCATION:VISàVIS\, Jakobstraße 50\, Grünstadt\, Rheinland-Pfalz\, 67269\, Deutschland
CATEGORIES:Beratung
ATTACH;FMTTYPE=image/jpeg:https://www.wid-stiftung.de/wp-content/uploads/2020/06/Beratung-Liga.jpg
ORGANIZER;CN="LIGA":MAILTO:LIGA@gmx-topmail.de
END:VEVENT
BEGIN:VEVENT
DTSTART;TZID=Europe/Berlin:20260330T170000
DTEND;TZID=Europe/Berlin:20260330T183000
DTSTAMP:20260422T110206
CREATED:20210829T155534Z
LAST-MODIFIED:20231127T203434Z
UID:10002214-1774890000-1774895400@www.wid-stiftung.de
SUMMARY:Literaturkreis
DESCRIPTION:Leitung: Waltraud Amberger
URL:https://www.wid-stiftung.de/terminkalender/literaturkreis-3-2-3/2026-03-30/
LOCATION:VISàVIS\, Jakobstraße 50\, Grünstadt\, Rheinland-Pfalz\, 67269\, Deutschland
CATEGORIES:Literaturkreis
END:VEVENT
BEGIN:VEVENT
DTSTART;TZID=Europe/Berlin:20260331T180000
DTEND;TZID=Europe/Berlin:20260331T200000
DTSTAMP:20260422T110206
CREATED:20250302T222522Z
LAST-MODIFIED:20250521T153158Z
UID:10002661-1774980000-1774987200@www.wid-stiftung.de
SUMMARY:LIGA - Beratung
DESCRIPTION:Ansprechpartner: Bernd Frietsch
URL:https://www.wid-stiftung.de/terminkalender/liga-18-12/2026-03-31/
LOCATION:VISàVIS\, Jakobstraße 50\, Grünstadt\, Rheinland-Pfalz\, 67269\, Deutschland
CATEGORIES:Beratung
ATTACH;FMTTYPE=image/png:https://www.wid-stiftung.de/wp-content/uploads/2020/06/Formular-ausfüllen.png
ORGANIZER;CN="LIGA":MAILTO:LIGA@gmx-topmail.de
END:VEVENT
END:VCALENDAR