BEGIN:VCALENDAR
VERSION:2.0
PRODID:-//WID Stiftung - ECPv6.15.20//NONSGML v1.0//EN
CALSCALE:GREGORIAN
METHOD:PUBLISH
X-WR-CALNAME:WID Stiftung
X-ORIGINAL-URL:https://www.wid-stiftung.de
X-WR-CALDESC:Veranstaltungen für WID Stiftung
REFRESH-INTERVAL;VALUE=DURATION:PT1H
X-Robots-Tag:noindex
X-PUBLISHED-TTL:PT1H
BEGIN:VTIMEZONE
TZID:Europe/Berlin
BEGIN:DAYLIGHT
TZOFFSETFROM:+0100
TZOFFSETTO:+0200
TZNAME:CEST
DTSTART:20250330T010000
END:DAYLIGHT
BEGIN:STANDARD
TZOFFSETFROM:+0200
TZOFFSETTO:+0100
TZNAME:CET
DTSTART:20251026T010000
END:STANDARD
BEGIN:DAYLIGHT
TZOFFSETFROM:+0100
TZOFFSETTO:+0200
TZNAME:CEST
DTSTART:20260329T010000
END:DAYLIGHT
BEGIN:STANDARD
TZOFFSETFROM:+0200
TZOFFSETTO:+0100
TZNAME:CET
DTSTART:20261025T010000
END:STANDARD
BEGIN:DAYLIGHT
TZOFFSETFROM:+0100
TZOFFSETTO:+0200
TZNAME:CEST
DTSTART:20270328T010000
END:DAYLIGHT
BEGIN:STANDARD
TZOFFSETFROM:+0200
TZOFFSETTO:+0100
TZNAME:CET
DTSTART:20271031T010000
END:STANDARD
END:VTIMEZONE
BEGIN:VEVENT
DTSTART;TZID=Europe/Berlin:20260507T160000
DTEND;TZID=Europe/Berlin:20260507T181500
DTSTAMP:20260421T001432
CREATED:20210601T072007Z
LAST-MODIFIED:20250521T152329Z
UID:10002482-1778169600-1778177700@www.wid-stiftung.de
SUMMARY:Lerncafé
DESCRIPTION:Leitung: Harry Hellfors
URL:https://www.wid-stiftung.de/terminkalender/lerncafe-2-2-2-4-2/2026-05-07/
LOCATION:VISàVIS\, Jakobstraße 50\, Grünstadt\, Rheinland-Pfalz\, 67269\, Deutschland
CATEGORIES:Alphabetisierung,Sprachkurs,Treffen
ATTACH;FMTTYPE=image/png:https://www.wid-stiftung.de/wp-content/uploads/2020/11/Grubinetz.png
ORGANIZER;CN="GrubiNetz":MAILTO:jennifer.handzik@andereslernen.de
END:VEVENT
BEGIN:VEVENT
DTSTART;TZID=Europe/Berlin:20260514T160000
DTEND;TZID=Europe/Berlin:20260514T181500
DTSTAMP:20260421T001432
CREATED:20210601T072007Z
LAST-MODIFIED:20250521T152329Z
UID:10002483-1778774400-1778782500@www.wid-stiftung.de
SUMMARY:Lerncafé
DESCRIPTION:Leitung: Harry Hellfors
URL:https://www.wid-stiftung.de/terminkalender/lerncafe-2-2-2-4-2/2026-05-14/
LOCATION:VISàVIS\, Jakobstraße 50\, Grünstadt\, Rheinland-Pfalz\, 67269\, Deutschland
CATEGORIES:Alphabetisierung,Sprachkurs,Treffen
ATTACH;FMTTYPE=image/png:https://www.wid-stiftung.de/wp-content/uploads/2020/11/Grubinetz.png
ORGANIZER;CN="GrubiNetz":MAILTO:jennifer.handzik@andereslernen.de
END:VEVENT
BEGIN:VEVENT
DTSTART;TZID=Europe/Berlin:20260521T160000
DTEND;TZID=Europe/Berlin:20260521T181500
DTSTAMP:20260421T001432
CREATED:20210601T072007Z
LAST-MODIFIED:20250521T152329Z
UID:10002484-1779379200-1779387300@www.wid-stiftung.de
SUMMARY:Lerncafé
DESCRIPTION:Leitung: Harry Hellfors
URL:https://www.wid-stiftung.de/terminkalender/lerncafe-2-2-2-4-2/2026-05-21/
LOCATION:VISàVIS\, Jakobstraße 50\, Grünstadt\, Rheinland-Pfalz\, 67269\, Deutschland
CATEGORIES:Alphabetisierung,Sprachkurs,Treffen
ATTACH;FMTTYPE=image/png:https://www.wid-stiftung.de/wp-content/uploads/2020/11/Grubinetz.png
ORGANIZER;CN="GrubiNetz":MAILTO:jennifer.handzik@andereslernen.de
END:VEVENT
BEGIN:VEVENT
DTSTART;TZID=Europe/Berlin:20260528T160000
DTEND;TZID=Europe/Berlin:20260528T181500
DTSTAMP:20260421T001432
CREATED:20210601T072007Z
LAST-MODIFIED:20250521T152329Z
UID:10002485-1779984000-1779992100@www.wid-stiftung.de
SUMMARY:Lerncafé
DESCRIPTION:Leitung: Harry Hellfors
URL:https://www.wid-stiftung.de/terminkalender/lerncafe-2-2-2-4-2/2026-05-28/
LOCATION:VISàVIS\, Jakobstraße 50\, Grünstadt\, Rheinland-Pfalz\, 67269\, Deutschland
CATEGORIES:Alphabetisierung,Sprachkurs,Treffen
ATTACH;FMTTYPE=image/png:https://www.wid-stiftung.de/wp-content/uploads/2020/11/Grubinetz.png
ORGANIZER;CN="GrubiNetz":MAILTO:jennifer.handzik@andereslernen.de
END:VEVENT
END:VCALENDAR