BEGIN:VCALENDAR
VERSION:2.0
PRODID:-//WID Stiftung - ECPv6.15.20//NONSGML v1.0//EN
CALSCALE:GREGORIAN
METHOD:PUBLISH
X-WR-CALNAME:WID Stiftung
X-ORIGINAL-URL:https://www.wid-stiftung.de
X-WR-CALDESC:Veranstaltungen für WID Stiftung
REFRESH-INTERVAL;VALUE=DURATION:PT1H
X-Robots-Tag:noindex
X-PUBLISHED-TTL:PT1H
BEGIN:VTIMEZONE
TZID:Europe/Berlin
BEGIN:DAYLIGHT
TZOFFSETFROM:+0100
TZOFFSETTO:+0200
TZNAME:CEST
DTSTART:20250330T010000
END:DAYLIGHT
BEGIN:STANDARD
TZOFFSETFROM:+0200
TZOFFSETTO:+0100
TZNAME:CET
DTSTART:20251026T010000
END:STANDARD
BEGIN:DAYLIGHT
TZOFFSETFROM:+0100
TZOFFSETTO:+0200
TZNAME:CEST
DTSTART:20260329T010000
END:DAYLIGHT
BEGIN:STANDARD
TZOFFSETFROM:+0200
TZOFFSETTO:+0100
TZNAME:CET
DTSTART:20261025T010000
END:STANDARD
BEGIN:DAYLIGHT
TZOFFSETFROM:+0100
TZOFFSETTO:+0200
TZNAME:CEST
DTSTART:20270328T010000
END:DAYLIGHT
BEGIN:STANDARD
TZOFFSETFROM:+0200
TZOFFSETTO:+0100
TZNAME:CET
DTSTART:20271031T010000
END:STANDARD
END:VTIMEZONE
BEGIN:VEVENT
DTSTART;TZID=Europe/Berlin:20260202T170000
DTEND;TZID=Europe/Berlin:20260202T183000
DTSTAMP:20260420T153312
CREATED:20210829T155534Z
LAST-MODIFIED:20231127T203434Z
UID:10002206-1770051600-1770057000@www.wid-stiftung.de
SUMMARY:Literaturkreis
DESCRIPTION:Leitung: Waltraud Amberger
URL:https://www.wid-stiftung.de/terminkalender/literaturkreis-3-2-3/2026-02-02/
LOCATION:VISàVIS\, Jakobstraße 50\, Grünstadt\, Rheinland-Pfalz\, 67269\, Deutschland
CATEGORIES:Literaturkreis
END:VEVENT
BEGIN:VEVENT
DTSTART;TZID=Europe/Berlin:20260209T170000
DTEND;TZID=Europe/Berlin:20260209T183000
DTSTAMP:20260420T153312
CREATED:20210829T155534Z
LAST-MODIFIED:20231127T203434Z
UID:10002207-1770656400-1770661800@www.wid-stiftung.de
SUMMARY:Literaturkreis
DESCRIPTION:Leitung: Waltraud Amberger
URL:https://www.wid-stiftung.de/terminkalender/literaturkreis-3-2-3/2026-02-09/
LOCATION:VISàVIS\, Jakobstraße 50\, Grünstadt\, Rheinland-Pfalz\, 67269\, Deutschland
CATEGORIES:Literaturkreis
END:VEVENT
BEGIN:VEVENT
DTSTART;TZID=Europe/Berlin:20260216T170000
DTEND;TZID=Europe/Berlin:20260216T183000
DTSTAMP:20260420T153312
CREATED:20210829T155534Z
LAST-MODIFIED:20231127T203434Z
UID:10002208-1771261200-1771266600@www.wid-stiftung.de
SUMMARY:Literaturkreis
DESCRIPTION:Leitung: Waltraud Amberger
URL:https://www.wid-stiftung.de/terminkalender/literaturkreis-3-2-3/2026-02-16/
LOCATION:VISàVIS\, Jakobstraße 50\, Grünstadt\, Rheinland-Pfalz\, 67269\, Deutschland
CATEGORIES:Literaturkreis
END:VEVENT
BEGIN:VEVENT
DTSTART;TZID=Europe/Berlin:20260223T170000
DTEND;TZID=Europe/Berlin:20260223T183000
DTSTAMP:20260420T153312
CREATED:20210829T155534Z
LAST-MODIFIED:20231127T203434Z
UID:10002209-1771866000-1771871400@www.wid-stiftung.de
SUMMARY:Literaturkreis
DESCRIPTION:Leitung: Waltraud Amberger
URL:https://www.wid-stiftung.de/terminkalender/literaturkreis-3-2-3/2026-02-23/
LOCATION:VISàVIS\, Jakobstraße 50\, Grünstadt\, Rheinland-Pfalz\, 67269\, Deutschland
CATEGORIES:Literaturkreis
END:VEVENT
END:VCALENDAR