BEGIN:VCALENDAR
VERSION:2.0
PRODID:-//WID Stiftung - ECPv6.15.20//NONSGML v1.0//EN
CALSCALE:GREGORIAN
METHOD:PUBLISH
X-ORIGINAL-URL:https://www.wid-stiftung.de
X-WR-CALDESC:Veranstaltungen für WID Stiftung
REFRESH-INTERVAL;VALUE=DURATION:PT1H
X-Robots-Tag:noindex
X-PUBLISHED-TTL:PT1H
BEGIN:VTIMEZONE
TZID:Europe/Berlin
BEGIN:DAYLIGHT
TZOFFSETFROM:+0100
TZOFFSETTO:+0200
TZNAME:CEST
DTSTART:20250330T010000
END:DAYLIGHT
BEGIN:STANDARD
TZOFFSETFROM:+0200
TZOFFSETTO:+0100
TZNAME:CET
DTSTART:20251026T010000
END:STANDARD
BEGIN:DAYLIGHT
TZOFFSETFROM:+0100
TZOFFSETTO:+0200
TZNAME:CEST
DTSTART:20260329T010000
END:DAYLIGHT
BEGIN:STANDARD
TZOFFSETFROM:+0200
TZOFFSETTO:+0100
TZNAME:CET
DTSTART:20261025T010000
END:STANDARD
BEGIN:DAYLIGHT
TZOFFSETFROM:+0100
TZOFFSETTO:+0200
TZNAME:CEST
DTSTART:20270328T010000
END:DAYLIGHT
BEGIN:STANDARD
TZOFFSETFROM:+0200
TZOFFSETTO:+0100
TZNAME:CET
DTSTART:20271031T010000
END:STANDARD
END:VTIMEZONE
BEGIN:VEVENT
DTSTART;TZID=Europe/Berlin:20260601T170000
DTEND;TZID=Europe/Berlin:20260601T183000
DTSTAMP:20260420T135625
CREATED:20210829T155534Z
LAST-MODIFIED:20231127T203434Z
UID:10002223-1780333200-1780338600@www.wid-stiftung.de
SUMMARY:Literaturkreis
DESCRIPTION:Leitung: Waltraud Amberger
URL:https://www.wid-stiftung.de/terminkalender/literaturkreis-3-2-3/2026-06-01/
LOCATION:VISàVIS\, Jakobstraße 50\, Grünstadt\, Rheinland-Pfalz\, 67269\, Deutschland
CATEGORIES:Literaturkreis
END:VEVENT
BEGIN:VEVENT
DTSTART;TZID=Europe/Berlin:20260608T170000
DTEND;TZID=Europe/Berlin:20260608T183000
DTSTAMP:20260420T135625
CREATED:20210829T155534Z
LAST-MODIFIED:20231127T203434Z
UID:10002224-1780938000-1780943400@www.wid-stiftung.de
SUMMARY:Literaturkreis
DESCRIPTION:Leitung: Waltraud Amberger
URL:https://www.wid-stiftung.de/terminkalender/literaturkreis-3-2-3/2026-06-08/
LOCATION:VISàVIS\, Jakobstraße 50\, Grünstadt\, Rheinland-Pfalz\, 67269\, Deutschland
CATEGORIES:Literaturkreis
END:VEVENT
BEGIN:VEVENT
DTSTART;TZID=Europe/Berlin:20260615T170000
DTEND;TZID=Europe/Berlin:20260615T183000
DTSTAMP:20260420T135625
CREATED:20210829T155534Z
LAST-MODIFIED:20231127T203434Z
UID:10002225-1781542800-1781548200@www.wid-stiftung.de
SUMMARY:Literaturkreis
DESCRIPTION:Leitung: Waltraud Amberger
URL:https://www.wid-stiftung.de/terminkalender/literaturkreis-3-2-3/2026-06-15/
LOCATION:VISàVIS\, Jakobstraße 50\, Grünstadt\, Rheinland-Pfalz\, 67269\, Deutschland
CATEGORIES:Literaturkreis
END:VEVENT
BEGIN:VEVENT
DTSTART;TZID=Europe/Berlin:20260622T170000
DTEND;TZID=Europe/Berlin:20260622T183000
DTSTAMP:20260420T135626
CREATED:20210829T155534Z
LAST-MODIFIED:20231127T203434Z
UID:10002226-1782147600-1782153000@www.wid-stiftung.de
SUMMARY:Literaturkreis
DESCRIPTION:Leitung: Waltraud Amberger
URL:https://www.wid-stiftung.de/terminkalender/literaturkreis-3-2-3/2026-06-22/
LOCATION:VISàVIS\, Jakobstraße 50\, Grünstadt\, Rheinland-Pfalz\, 67269\, Deutschland
CATEGORIES:Literaturkreis
END:VEVENT
BEGIN:VEVENT
DTSTART;TZID=Europe/Berlin:20260629T170000
DTEND;TZID=Europe/Berlin:20260629T183000
DTSTAMP:20260420T135626
CREATED:20210829T155534Z
LAST-MODIFIED:20231127T203434Z
UID:10002227-1782752400-1782757800@www.wid-stiftung.de
SUMMARY:Literaturkreis
DESCRIPTION:Leitung: Waltraud Amberger
URL:https://www.wid-stiftung.de/terminkalender/literaturkreis-3-2-3/2026-06-29/
LOCATION:VISàVIS\, Jakobstraße 50\, Grünstadt\, Rheinland-Pfalz\, 67269\, Deutschland
CATEGORIES:Literaturkreis
END:VEVENT
END:VCALENDAR