BEGIN:VCALENDAR
VERSION:2.0
PRODID:-//WID Stiftung - ECPv6.15.20//NONSGML v1.0//EN
CALSCALE:GREGORIAN
METHOD:PUBLISH
X-ORIGINAL-URL:https://www.wid-stiftung.de
X-WR-CALDESC:Veranstaltungen für WID Stiftung
REFRESH-INTERVAL;VALUE=DURATION:PT1H
X-Robots-Tag:noindex
X-PUBLISHED-TTL:PT1H
BEGIN:VTIMEZONE
TZID:Europe/Berlin
BEGIN:DAYLIGHT
TZOFFSETFROM:+0100
TZOFFSETTO:+0200
TZNAME:CEST
DTSTART:20240331T010000
END:DAYLIGHT
BEGIN:STANDARD
TZOFFSETFROM:+0200
TZOFFSETTO:+0100
TZNAME:CET
DTSTART:20241027T010000
END:STANDARD
BEGIN:DAYLIGHT
TZOFFSETFROM:+0100
TZOFFSETTO:+0200
TZNAME:CEST
DTSTART:20250330T010000
END:DAYLIGHT
BEGIN:STANDARD
TZOFFSETFROM:+0200
TZOFFSETTO:+0100
TZNAME:CET
DTSTART:20251026T010000
END:STANDARD
BEGIN:DAYLIGHT
TZOFFSETFROM:+0100
TZOFFSETTO:+0200
TZNAME:CEST
DTSTART:20260329T010000
END:DAYLIGHT
BEGIN:STANDARD
TZOFFSETFROM:+0200
TZOFFSETTO:+0100
TZNAME:CET
DTSTART:20261025T010000
END:STANDARD
END:VTIMEZONE
BEGIN:VEVENT
DTSTART;TZID=Europe/Berlin:20250904T160000
DTEND;TZID=Europe/Berlin:20250904T181500
DTSTAMP:20260420T121519
CREATED:20210601T072007Z
LAST-MODIFIED:20250521T152329Z
UID:10002447-1757001600-1757009700@www.wid-stiftung.de
SUMMARY:Lerncafé
DESCRIPTION:Leitung: Harry Hellfors
URL:https://www.wid-stiftung.de/terminkalender/lerncafe-2-2-2-4-2/2025-09-04/
LOCATION:VISàVIS\, Jakobstraße 50\, Grünstadt\, Rheinland-Pfalz\, 67269\, Deutschland
CATEGORIES:Alphabetisierung,Sprachkurs,Treffen
ATTACH;FMTTYPE=image/png:https://www.wid-stiftung.de/wp-content/uploads/2020/11/Grubinetz.png
ORGANIZER;CN="GrubiNetz":MAILTO:jennifer.handzik@andereslernen.de
END:VEVENT
BEGIN:VEVENT
DTSTART;TZID=Europe/Berlin:20250911T160000
DTEND;TZID=Europe/Berlin:20250911T181500
DTSTAMP:20260420T121519
CREATED:20210601T072007Z
LAST-MODIFIED:20250521T152329Z
UID:10002448-1757606400-1757614500@www.wid-stiftung.de
SUMMARY:Lerncafé
DESCRIPTION:Leitung: Harry Hellfors
URL:https://www.wid-stiftung.de/terminkalender/lerncafe-2-2-2-4-2/2025-09-11/
LOCATION:VISàVIS\, Jakobstraße 50\, Grünstadt\, Rheinland-Pfalz\, 67269\, Deutschland
CATEGORIES:Alphabetisierung,Sprachkurs,Treffen
ATTACH;FMTTYPE=image/png:https://www.wid-stiftung.de/wp-content/uploads/2020/11/Grubinetz.png
ORGANIZER;CN="GrubiNetz":MAILTO:jennifer.handzik@andereslernen.de
END:VEVENT
BEGIN:VEVENT
DTSTART;TZID=Europe/Berlin:20250918T160000
DTEND;TZID=Europe/Berlin:20250918T181500
DTSTAMP:20260420T121519
CREATED:20210601T072007Z
LAST-MODIFIED:20250521T152329Z
UID:10002449-1758211200-1758219300@www.wid-stiftung.de
SUMMARY:Lerncafé
DESCRIPTION:Leitung: Harry Hellfors
URL:https://www.wid-stiftung.de/terminkalender/lerncafe-2-2-2-4-2/2025-09-18/
LOCATION:VISàVIS\, Jakobstraße 50\, Grünstadt\, Rheinland-Pfalz\, 67269\, Deutschland
CATEGORIES:Alphabetisierung,Sprachkurs,Treffen
ATTACH;FMTTYPE=image/png:https://www.wid-stiftung.de/wp-content/uploads/2020/11/Grubinetz.png
ORGANIZER;CN="GrubiNetz":MAILTO:jennifer.handzik@andereslernen.de
END:VEVENT
BEGIN:VEVENT
DTSTART;TZID=Europe/Berlin:20250925T160000
DTEND;TZID=Europe/Berlin:20250925T181500
DTSTAMP:20260420T121519
CREATED:20210601T072007Z
LAST-MODIFIED:20250521T152329Z
UID:10002450-1758816000-1758824100@www.wid-stiftung.de
SUMMARY:Lerncafé
DESCRIPTION:Leitung: Harry Hellfors
URL:https://www.wid-stiftung.de/terminkalender/lerncafe-2-2-2-4-2/2025-09-25/
LOCATION:VISàVIS\, Jakobstraße 50\, Grünstadt\, Rheinland-Pfalz\, 67269\, Deutschland
CATEGORIES:Alphabetisierung,Sprachkurs,Treffen
ATTACH;FMTTYPE=image/png:https://www.wid-stiftung.de/wp-content/uploads/2020/11/Grubinetz.png
ORGANIZER;CN="GrubiNetz":MAILTO:jennifer.handzik@andereslernen.de
END:VEVENT
END:VCALENDAR